BEGIN:VCALENDAR
VERSION:2.0
PRODID:-//habitatnewburgh.org//NONSGML kigkonsult.se iCalcreator 2.30.10//
CALSCALE:GREGORIAN
METHOD:PUBLISH
UID:481416ea-e62c-443b-8d09-223fe11f4bc4
X-WR-CALDESC:To arrange a drop-off:\nPlease reach out to us via email at co
 nstruction@habitatnewburgh.org and include photos.\n\nThank You for Suppor
 ting Our Mission! Your donation helps us keep building safe\, affordable h
 omes for our community!
X-WR-RELCALID:6ebbae365d1016127e2bc85151fc5ad6
X-WR-TIMEZONE:America/New_York
BEGIN:VTIMEZONE
TZID:America/New_York
BEGIN:STANDARD
TZNAME:EST
DTSTART:20251102T020000
TZOFFSETFROM:-0400
TZOFFSETTO:-0500
RDATE:20261101T020000
END:STANDARD
BEGIN:DAYLIGHT
TZNAME:EDT
DTSTART:20260308T020000
TZOFFSETFROM:-0500
TZOFFSETTO:-0400
RDATE:20270314T020000
END:DAYLIGHT
END:VTIMEZONE
BEGIN:VEVENT
UID:319b926c-40d0-4586-9416-4438cafe5dcb
DTSTAMP:20260419T201133Z
DESCRIPTION:To arrange a drop-off:\nPlease reach out to us via email at con
 struction@habitatnewburgh.org and include photos.\n\nThank You for Support
 ing Our Mission! Your donation helps us keep building safe\, affordable ho
 mes for our community!
DTSTART;TZID=America/New_York:20260331T120000
DTEND;TZID=America/New_York:20260430T130000
LOCATION:
SUMMARY:Tool Donation Drive
END:VEVENT
END:VCALENDAR
